BEGIN:VCALENDAR
VERSION:2.0
PRODID:-//Lehigh Valley Charter High School for the Arts//NONSGML v1.0//EN
CALSCALE:GREGORIAN
METHOD:PUBLISH
X-WR-CALNAME:Lehigh Valley Charter High School for the Arts
X-ORIGINAL-URL:https://www.charterarts.org
X-WR-CALDESC:Events for Lehigh Valley Charter High School for the Arts
X-WR-TIMEZONE:America/New_York
BEGIN:VEVENT
DTSTART;VALUE=DATE:20140512
DTEND;VALUE=DATE:20140517
DTSTAMP:20260419T115121
CREATED:20130529T132457
LAST-MODIFIED:20130529T132457
UID:4946@https://www.charterarts.org
SUMMARY:Keystone Exam Testing Window (and Make-Ups)
DESCRIPTION:Please Note: Student attendance during the Keystone Exam Testing Window is mandatory.  
LOCATION:
URL:https://www.charterarts.org/event/keystone-exam-testing-window-and-make-ups-6/
END:VEVENT
END:VCALENDAR