BEGIN:VCALENDAR
VERSION:2.0
PRODID:-//Lehigh Valley Charter High School for the Arts//NONSGML v1.0//EN
CALSCALE:GREGORIAN
METHOD:PUBLISH
X-WR-CALNAME:Lehigh Valley Charter High School for the Arts
X-ORIGINAL-URL:https://www.charterarts.org
X-WR-CALDESC:Events for Lehigh Valley Charter High School for the Arts
X-WR-TIMEZONE:America/New_York
BEGIN:VEVENT
DTSTART;VALUE=DATE:20170119
DTEND;VALUE=DATE:20170120
DTSTAMP:20260420T084043
CREATED:20161212T120407
LAST-MODIFIED:20161212T120407
UID:13327@https://www.charterarts.org
SUMMARY:Keystone Exams ALGEBRA
DESCRIPTION:
LOCATION:
URL:https://www.charterarts.org/event/keystone-exams-algebra/
END:VEVENT
END:VCALENDAR