BEGIN:VCALENDAR
VERSION:2.0
PRODID:-//Lehigh Valley Charter High School for the Arts//NONSGML v1.0//EN
CALSCALE:GREGORIAN
METHOD:PUBLISH
X-WR-CALNAME:Lehigh Valley Charter High School for the Arts
X-ORIGINAL-URL:https://www.charterarts.org
X-WR-CALDESC:Events for Lehigh Valley Charter High School for the Arts
X-WR-TIMEZONE:America/New_York
BEGIN:VEVENT
DTSTART;VALUE=DATE-TIME:20150514T080000
DTEND;VALUE=DATE-TIME:20150515T100000
DTSTAMP:20260419T143928
CREATED:20150406T100542
LAST-MODIFIED:20150406T100542
UID:9598@https://www.charterarts.org
SUMMARY:Keystone Testing- Literature
DESCRIPTION:
LOCATION:
URL:https://www.charterarts.org/event/keystone-testing-literature/
END:VEVENT
END:VCALENDAR