BEGIN:VCALENDAR
VERSION:2.0
PRODID:-//Lehigh Valley Charter High School for the Arts//NONSGML v1.0//EN
CALSCALE:GREGORIAN
METHOD:PUBLISH
X-WR-CALNAME:Lehigh Valley Charter High School for the Arts
X-ORIGINAL-URL:https://www.charterarts.org
X-WR-CALDESC:Events for Lehigh Valley Charter High School for the Arts
X-WR-TIMEZONE:America/New_York
BEGIN:VEVENT
DTSTART;VALUE=DATE:20150120
DTEND;VALUE=DATE:20150122
DTSTAMP:20260422T115033
CREATED:20141215T142102
LAST-MODIFIED:20141215T142322
UID:8892@https://www.charterarts.org
SUMMARY:Keystone Testing Window
DESCRIPTION:
LOCATION:
URL:https://www.charterarts.org/event/keystong-testing-window/
END:VEVENT
END:VCALENDAR