BEGIN:VCALENDAR
VERSION:2.0
PRODID:-//Lehigh Valley Charter High School for the Arts//NONSGML v1.0//EN
CALSCALE:GREGORIAN
METHOD:PUBLISH
X-WR-CALNAME:Lehigh Valley Charter High School for the Arts
X-ORIGINAL-URL:https://www.charterarts.org
X-WR-CALDESC:Events for Lehigh Valley Charter High School for the Arts
X-WR-TIMEZONE:America/New_York
BEGIN:VEVENT
DTSTART;VALUE=DATE:20130614
DTEND;VALUE=DATE:20130615
DTSTAMP:20260419T132932
CREATED:20130604T165534
LAST-MODIFIED:20130604T165534
UID:4999@https://www.charterarts.org
SUMMARY:Last Day for All Students
DESCRIPTION:
LOCATION:
URL:https://www.charterarts.org/event/last-day-for-all-students/
END:VEVENT
END:VCALENDAR