BEGIN:VCALENDAR
VERSION:2.0
PRODID:-//Lehigh Valley Charter High School for the Arts//NONSGML v1.0//EN
CALSCALE:GREGORIAN
METHOD:PUBLISH
X-WR-CALNAME:Lehigh Valley Charter High School for the Arts
X-ORIGINAL-URL:https://www.charterarts.org
X-WR-CALDESC:Events for Lehigh Valley Charter High School for the Arts
X-WR-TIMEZONE:America/New_York
BEGIN:VEVENT
DTSTART;VALUE=DATE:20170612
DTEND;VALUE=DATE:20170613
DTSTAMP:20260420T082553
CREATED:20170104T085302
LAST-MODIFIED:20170511T142200
UID:13565@https://www.charterarts.org
SUMMARY:Last Day for ALL Students- Early Dismissal 11am
DESCRIPTION:
LOCATION:
URL:https://www.charterarts.org/event/last-day-students-early-dismissal-11am/
END:VEVENT
END:VCALENDAR