BEGIN:VCALENDAR
VERSION:2.0
PRODID:-//Lehigh Valley Charter High School for the Arts//NONSGML v1.0//EN
CALSCALE:GREGORIAN
METHOD:PUBLISH
X-WR-CALNAME:Lehigh Valley Charter High School for the Arts
X-ORIGINAL-URL:https://www.charterarts.org
X-WR-CALDESC:Events for Lehigh Valley Charter High School for the Arts
X-WR-TIMEZONE:America/New_York
BEGIN:VEVENT
DTSTART;VALUE=DATE:20180613
DTEND;VALUE=DATE:20180614
DTSTAMP:20260419T121106
CREATED:20170706T095828
LAST-MODIFIED:20170706T095828
UID:14442@https://www.charterarts.org
SUMMARY:LAST DAY FOR TEACHERS
DESCRIPTION:
LOCATION:
URL:https://www.charterarts.org/event/last-day-teachers-4/
END:VEVENT
END:VCALENDAR