BEGIN:VCALENDAR
VERSION:2.0
PRODID:-//Lehigh Valley Charter High School for the Arts//NONSGML v1.0//EN
CALSCALE:GREGORIAN
METHOD:PUBLISH
X-WR-CALNAME:Lehigh Valley Charter High School for the Arts
X-ORIGINAL-URL:https://www.charterarts.org
X-WR-CALDESC:Events for Lehigh Valley Charter High School for the Arts
X-WR-TIMEZONE:America/New_York
BEGIN:VEVENT
DTSTART;VALUE=DATE:20150212
DTEND;VALUE=DATE:20150215
DTSTAMP:20260422T114409
CREATED:20141218T112938
LAST-MODIFIED:20141218T113107
UID:8970@https://www.charterarts.org
SUMMARY:Regional Band Festival
DESCRIPTION:
LOCATION:
URL:https://www.charterarts.org/event/lehigh-rounds/
END:VEVENT
END:VCALENDAR