BEGIN:VCALENDAR
VERSION:2.0
PRODID:-//Lehigh Valley Charter High School for the Arts//NONSGML v1.0//EN
CALSCALE:GREGORIAN
METHOD:PUBLISH
X-WR-CALNAME:Lehigh Valley Charter High School for the Arts
X-ORIGINAL-URL:https://www.charterarts.org
X-WR-CALDESC:Events for Lehigh Valley Charter High School for the Arts
X-WR-TIMEZONE:America/New_York
BEGIN:VEVENT
DTSTART;VALUE=DATE-TIME:20181214T180000
DTEND;VALUE=DATE-TIME:20181214T200000
DTSTAMP:20260419T180618
CREATED:20180731T150730
LAST-MODIFIED:20180731T150730
UID:16446@https://www.charterarts.org
SUMMARY:Literary Arts at The Lodge
DESCRIPTION:
LOCATION:
URL:https://www.charterarts.org/event/literary-arts-at-the-lodge-4/
END:VEVENT
END:VCALENDAR