BEGIN:VCALENDAR
VERSION:2.0
PRODID:-//Lehigh Valley Charter High School for the Arts//NONSGML v1.0//EN
CALSCALE:GREGORIAN
METHOD:PUBLISH
X-WR-CALNAME:Lehigh Valley Charter High School for the Arts
X-ORIGINAL-URL:https://www.charterarts.org
X-WR-CALDESC:Events for Lehigh Valley Charter High School for the Arts
X-WR-TIMEZONE:America/New_York
BEGIN:VEVENT
DTSTART;VALUE=DATE-TIME:20161020T160000
DTEND;VALUE=DATE-TIME:20161020T170000
DTSTAMP:20260424T112819
CREATED:20161019T135238
LAST-MODIFIED:20161019T135238
UID:12910@https://www.charterarts.org
SUMMARY:Literary Arts to Master w/Nikki Giovanni
DESCRIPTION:Meet and greet at Zoellner\, 4pm.    Lecture in the evening.
LOCATION:
URL:https://www.charterarts.org/event/literary-arts-master-wnikki-giovanni/
END:VEVENT
END:VCALENDAR