BEGIN:VCALENDAR
VERSION:2.0
PRODID:-//Lehigh Valley Charter High School for the Arts//NONSGML v1.0//EN
CALSCALE:GREGORIAN
METHOD:PUBLISH
X-WR-CALNAME:Lehigh Valley Charter High School for the Arts
X-ORIGINAL-URL:https://www.charterarts.org
X-WR-CALDESC:Events for Lehigh Valley Charter High School for the Arts
X-WR-TIMEZONE:America/New_York
BEGIN:VEVENT
DTSTART;VALUE=DATE:20160610
DTEND;VALUE=DATE:20160611
DTSTAMP:20260420T140103
CREATED:20160524T123314
LAST-MODIFIED:20160527T115757
UID:11930@https://www.charterarts.org
SUMMARY:Make-Up Finals: June 10 &13
DESCRIPTION:11AM dismissal for all students\, grades 9-12.
LOCATION:
URL:https://www.charterarts.org/event/make-final-exams/
END:VEVENT
END:VCALENDAR