BEGIN:VCALENDAR
VERSION:2.0
PRODID:-//Lehigh Valley Charter High School for the Arts//NONSGML v1.0//EN
CALSCALE:GREGORIAN
METHOD:PUBLISH
X-WR-CALNAME:Lehigh Valley Charter High School for the Arts
X-ORIGINAL-URL:https://www.charterarts.org
X-WR-CALDESC:Events for Lehigh Valley Charter High School for the Arts
X-WR-TIMEZONE:America/New_York
BEGIN:VEVENT
DTSTART;VALUE=DATE-TIME:20170123T090000
DTEND;VALUE=DATE-TIME:20170123T110000
DTSTAMP:20260420T221931
CREATED:20161118T093844
LAST-MODIFIED:20161118T093844
UID:13087@https://www.charterarts.org
SUMMARY:Master Class:  Eugene Albulescu
DESCRIPTION:
LOCATION:
URL:https://www.charterarts.org/event/master-class-eugene-albulescu/
END:VEVENT
END:VCALENDAR