BEGIN:VCALENDAR
VERSION:2.0
PRODID:-//Lehigh Valley Charter High School for the Arts//NONSGML v1.0//EN
CALSCALE:GREGORIAN
METHOD:PUBLISH
X-WR-CALNAME:Lehigh Valley Charter High School for the Arts
X-ORIGINAL-URL:https://www.charterarts.org
X-WR-CALDESC:Events for Lehigh Valley Charter High School for the Arts
X-WR-TIMEZONE:America/New_York
BEGIN:VEVENT
DTSTART;VALUE=DATE:20170223
DTEND;VALUE=DATE:20170224
DTSTAMP:20260419T125554
CREATED:20170215T134532
LAST-MODIFIED:20170215T134532
UID:13743@https://www.charterarts.org
SUMMARY:Master Class with Kay Haring
DESCRIPTION:The Charter Arts Literary Arts Department will welcome author\, Kay Haring\, to discuss her book\, Keith Haring: The Boy Who Just Kept Drawing.
LOCATION:
URL:https://www.charterarts.org/event/master-class-kay-haring/
END:VEVENT
END:VCALENDAR