BEGIN:VCALENDAR
VERSION:2.0
PRODID:-//Lehigh Valley Charter High School for the Arts//NONSGML v1.0//EN
CALSCALE:GREGORIAN
METHOD:PUBLISH
X-WR-CALNAME:Lehigh Valley Charter High School for the Arts
X-ORIGINAL-URL:https://www.charterarts.org
X-WR-CALDESC:Events for Lehigh Valley Charter High School for the Arts
X-WR-TIMEZONE:America/New_York
BEGIN:VEVENT
DTSTART;VALUE=DATE:20170130
DTEND;VALUE=DATE:20170131
DTSTAMP:20260420T205828
CREATED:20170126T082120
LAST-MODIFIED:20170126T082158
UID:13630@https://www.charterarts.org
SUMMARY:Master Class- Temple University Percussion
DESCRIPTION:The Charter Arts Music Department welcomes the Temple University Percussion Ensemble as part of the Master Class Series.
LOCATION:
URL:https://www.charterarts.org/event/master-class-temple-university-percussion/
END:VEVENT
END:VCALENDAR