BEGIN:VCALENDAR
VERSION:2.0
PRODID:-//Lehigh Valley Charter High School for the Arts//NONSGML v1.0//EN
CALSCALE:GREGORIAN
METHOD:PUBLISH
X-WR-CALNAME:Lehigh Valley Charter High School for the Arts
X-ORIGINAL-URL:https://www.charterarts.org
X-WR-CALDESC:Events for Lehigh Valley Charter High School for the Arts
X-WR-TIMEZONE:America/New_York
BEGIN:VEVENT
DTSTART;VALUE=DATE-TIME:20170324T080000
DTEND;VALUE=DATE-TIME:20170324T170000
DTSTAMP:20260422T133226
CREATED:20170130T092317
LAST-MODIFIED:20170130T092332
UID:13645@https://www.charterarts.org
SUMMARY:Music Field Trip to New York City
DESCRIPTION:This event is coordinated by Mr. Wells and Mr. Macbeth.
LOCATION:
URL:https://www.charterarts.org/event/music-field-trip-new-york-city/
END:VEVENT
END:VCALENDAR