BEGIN:VCALENDAR
VERSION:2.0
PRODID:-//Lehigh Valley Charter High School for the Arts//NONSGML v1.0//EN
CALSCALE:GREGORIAN
METHOD:PUBLISH
X-WR-CALNAME:Lehigh Valley Charter High School for the Arts
X-ORIGINAL-URL:https://www.charterarts.org
X-WR-CALDESC:Events for Lehigh Valley Charter High School for the Arts
X-WR-TIMEZONE:America/New_York
BEGIN:VEVENT
DTSTART;VALUE=DATE-TIME:20171121T190000
DTEND;VALUE=DATE-TIME:20171121T203000
DTSTAMP:20260420T140345
CREATED:20170801T105851
LAST-MODIFIED:20171104T134813
UID:14596@https://www.charterarts.org
SUMMARY:National Honor Society Induction
DESCRIPTION:
LOCATION:
URL:https://www.charterarts.org/event/national-honor-society-induction-2/
END:VEVENT
END:VCALENDAR