BEGIN:VCALENDAR
VERSION:2.0
PRODID:-//Lehigh Valley Charter High School for the Arts//NONSGML v1.0//EN
CALSCALE:GREGORIAN
METHOD:PUBLISH
X-WR-CALNAME:Lehigh Valley Charter High School for the Arts
X-ORIGINAL-URL:https://www.charterarts.org
X-WR-CALDESC:Events for Lehigh Valley Charter High School for the Arts
X-WR-TIMEZONE:America/New_York
BEGIN:VEVENT
DTSTART;VALUE=DATE-TIME:20121002T190000
DTEND;VALUE=DATE-TIME:20121002T200000
DTSTAMP:20260419T162916
CREATED:20120908T115937
LAST-MODIFIED:20120908T115937
UID:3792@https://www.charterarts.org
SUMMARY:National Honor Society - Induction Ceremony
DESCRIPTION:
LOCATION:LVPA - Black Box Theatre, 675 East Broad Street, Bethlehem, PA, United States, 18018
URL:https://www.charterarts.org/event/national-honor-society-induction-ceremony/
END:VEVENT
END:VCALENDAR