BEGIN:VCALENDAR
VERSION:2.0
PRODID:-//Lehigh Valley Charter High School for the Arts//NONSGML v1.0//EN
CALSCALE:GREGORIAN
METHOD:PUBLISH
X-WR-CALNAME:Lehigh Valley Charter High School for the Arts
X-ORIGINAL-URL:https://www.charterarts.org
X-WR-CALDESC:Events for Lehigh Valley Charter High School for the Arts
X-WR-TIMEZONE:America/New_York
BEGIN:VEVENT
DTSTART;VALUE=DATE:20130814
DTEND;VALUE=DATE:20130817
DTSTAMP:20260419T175605
CREATED:20130517T105731
LAST-MODIFIED:20130517T111120
UID:4765@https://www.charterarts.org
SUMMARY:New Teacher Orientation
DESCRIPTION:
LOCATION:
URL:https://www.charterarts.org/event/new-teacher-orientation-3/
END:VEVENT
END:VCALENDAR