BEGIN:VCALENDAR
VERSION:2.0
PRODID:-//Lehigh Valley Charter High School for the Arts//NONSGML v1.0//EN
CALSCALE:GREGORIAN
METHOD:PUBLISH
X-WR-CALNAME:Lehigh Valley Charter High School for the Arts
X-ORIGINAL-URL:https://www.charterarts.org
X-WR-CALDESC:Events for Lehigh Valley Charter High School for the Arts
X-WR-TIMEZONE:America/New_York
BEGIN:VEVENT
DTSTART;VALUE=DATE-TIME:20170404T180000
DTEND;VALUE=DATE-TIME:20170404T190000
DTSTAMP:20260420T130612
CREATED:20170207T124602
LAST-MODIFIED:20170207T124602
UID:13682@https://www.charterarts.org
SUMMARY:NHS for Dance Arts Induction
DESCRIPTION:
LOCATION:
URL:https://www.charterarts.org/event/nhs-dance-arts-induction/
END:VEVENT
END:VCALENDAR