BEGIN:VCALENDAR
VERSION:2.0
PRODID:-//Lehigh Valley Charter High School for the Arts//NONSGML v1.0//EN
CALSCALE:GREGORIAN
METHOD:PUBLISH
X-WR-CALNAME:Lehigh Valley Charter High School for the Arts
X-ORIGINAL-URL:https://www.charterarts.org
X-WR-CALDESC:Events for Lehigh Valley Charter High School for the Arts
X-WR-TIMEZONE:America/New_York
BEGIN:VEVENT
DTSTART;VALUE=DATE:20131113
DTEND;VALUE=DATE:20131114
DTSTAMP:20260419T144051
CREATED:20130517T111624
LAST-MODIFIED:20130517T111624
UID:4811@https://www.charterarts.org
SUMMARY:Open House
DESCRIPTION:
LOCATION:
URL:https://www.charterarts.org/event/open-house-2/
END:VEVENT
END:VCALENDAR