BEGIN:VCALENDAR
VERSION:2.0
PRODID:-//Lehigh Valley Charter High School for the Arts//NONSGML v1.0//EN
CALSCALE:GREGORIAN
METHOD:PUBLISH
X-WR-CALNAME:Lehigh Valley Charter High School for the Arts
X-ORIGINAL-URL:https://www.charterarts.org
X-WR-CALDESC:Events for Lehigh Valley Charter High School for the Arts
X-WR-TIMEZONE:America/New_York
BEGIN:VEVENT
DTSTART;VALUE=DATE-TIME:20141029T180000
DTEND;VALUE=DATE-TIME:20141029T210000
DTSTAMP:20260419T131924
CREATED:20140627T140548
LAST-MODIFIED:20140627T140548
UID:7454@https://www.charterarts.org
SUMMARY:OPEN HOUSE
DESCRIPTION:
LOCATION:
URL:https://www.charterarts.org/event/open-house-5/
END:VEVENT
END:VCALENDAR