BEGIN:VCALENDAR
VERSION:2.0
PRODID:-//Lehigh Valley Charter High School for the Arts//NONSGML v1.0//EN
CALSCALE:GREGORIAN
METHOD:PUBLISH
X-WR-CALNAME:Lehigh Valley Charter High School for the Arts
X-ORIGINAL-URL:https://www.charterarts.org
X-WR-CALDESC:Events for Lehigh Valley Charter High School for the Arts
X-WR-TIMEZONE:America/New_York
BEGIN:VEVENT
DTSTART;VALUE=DATE-TIME:20151110T180000
DTEND;VALUE=DATE-TIME:20151110T210000
DTSTAMP:20260420T144020
CREATED:20150831T131924
LAST-MODIFIED:20151106T130036
UID:10338@https://www.charterarts.org
SUMMARY:OPEN HOUSE
DESCRIPTION:
LOCATION:
URL:https://www.charterarts.org/event/open-house-9/
END:VEVENT
END:VCALENDAR