BEGIN:VCALENDAR
VERSION:2.0
PRODID:-//Lehigh Valley Charter High School for the Arts//NONSGML v1.0//EN
CALSCALE:GREGORIAN
METHOD:PUBLISH
X-WR-CALNAME:Lehigh Valley Charter High School for the Arts
X-ORIGINAL-URL:https://www.charterarts.org
X-WR-CALDESC:Events for Lehigh Valley Charter High School for the Arts
X-WR-TIMEZONE:America/New_York
BEGIN:VEVENT
DTSTART;VALUE=DATE-TIME:20140728T123000
DTEND;VALUE=DATE-TIME:20140728T150000
DTSTAMP:20260420T094949
CREATED:20140626T160048
LAST-MODIFIED:20140626T160048
UID:7395@https://www.charterarts.org
SUMMARY:Opera & Classical Voice Workshop
DESCRIPTION:Part of the 2014 Summer Academy.  A program of arts enrichment workshops open to the community. Opera &amp; Classical Voice Workshop (limited openings available)  (The dates  and instructor for this workshop have changed since the last posting.  This is the updated information.) Opera and classical music are more popular than ever with children and teens. From acts like Jackie Evancho and the Italian teen pop opera trio\, Il Volo\, classical voice is making an impact on all ages.  This workshop is for the intermediate to advanced vocal student\, with a developed voice. Not for beginners.Open to students entering 9th-12th grade.One Week Session:  July 28-August 112:30pm-3:00pm daily$175Instructor: D. Macbeth Registration form available at www.CharterArts.org (click on Summer Academy on main page)
LOCATION:
URL:https://www.charterarts.org/event/opera-classical-voice-workshop/
END:VEVENT
END:VCALENDAR