BEGIN:VCALENDAR
VERSION:2.0
PRODID:-//Lehigh Valley Charter High School for the Arts//NONSGML v1.0//EN
CALSCALE:GREGORIAN
METHOD:PUBLISH
X-WR-CALNAME:Lehigh Valley Charter High School for the Arts
X-ORIGINAL-URL:https://www.charterarts.org
X-WR-CALDESC:Events for Lehigh Valley Charter High School for the Arts
X-WR-TIMEZONE:America/New_York
BEGIN:VEVENT
DTSTART;VALUE=DATE-TIME:20141210T080000
DTEND;VALUE=DATE-TIME:20141210T150000
DTSTAMP:20260419T134316
CREATED:20141205T120910
LAST-MODIFIED:20141205T121005
UID:8755@https://www.charterarts.org
SUMMARY:Outreach Performance- St. Luke's Hospital
DESCRIPTION:Some vocal majors will perform at St. Luke's Hospital.    This event is coordinated through Mrs. Flickinger;  lflickinger@charterarts.org
LOCATION:ST. Luke's Hospital
URL:https://www.charterarts.org/event/outreach-performance-st-lukes-hospital/
END:VEVENT
END:VCALENDAR