BEGIN:VCALENDAR
VERSION:2.0
PRODID:-//Lehigh Valley Charter High School for the Arts//NONSGML v1.0//EN
CALSCALE:GREGORIAN
METHOD:PUBLISH
X-WR-CALNAME:Lehigh Valley Charter High School for the Arts
X-ORIGINAL-URL:https://www.charterarts.org
X-WR-CALDESC:Events for Lehigh Valley Charter High School for the Arts
X-WR-TIMEZONE:America/New_York
BEGIN:VEVENT
DTSTART;VALUE=DATE-TIME:20141117T183000
DTEND;VALUE=DATE-TIME:20141117T203000
DTSTAMP:20260419T125749
CREATED:20141111T111157
LAST-MODIFIED:20141111T111203
UID:8702@https://www.charterarts.org
SUMMARY:Parent Association Meeting
DESCRIPTION:Guest speaker:  Carise Comstock\, Dean of Academic Affairs\, Curriculum and Instruction    Choral Room\, 6:30pm    (Meeting will begin promptly\, please plan to arrive 10 minutes prior to start time.)    Please RSVP to communications@charterarts.org.    &nbsp;
LOCATION:
URL:https://www.charterarts.org/event/parent-association-meeting-7/
END:VEVENT
END:VCALENDAR