BEGIN:VCALENDAR
VERSION:2.0
PRODID:-//Lehigh Valley Charter High School for the Arts//NONSGML v1.0//EN
CALSCALE:GREGORIAN
METHOD:PUBLISH
X-WR-CALNAME:Lehigh Valley Charter High School for the Arts
X-ORIGINAL-URL:https://www.charterarts.org
X-WR-CALDESC:Events for Lehigh Valley Charter High School for the Arts
X-WR-TIMEZONE:America/New_York
BEGIN:VEVENT
DTSTART;VALUE=DATE-TIME:20180124T180000
DTEND;VALUE=DATE-TIME:20180124T200000
DTSTAMP:20260420T224304
CREATED:20180110T104044
LAST-MODIFIED:20180110T113250
UID:15313@https://www.charterarts.org
SUMMARY:Parent Meeting- Title I & Internet Safety
DESCRIPTION:In response to parents' requests for valuable information regarding internet safety\, the Charter Arts Parent Association has designed this important event.          Where and When:        Wednesday\, January 24 at 6pm in the Commons Cafe.          Itinerary:        6-6:30pm-- Presentation by members of Charter Arts' administration regarding school safety policies and Title I.      6:30pm-8:00pm-  Digital Citizenship:  Speaker David Shallcross\, PA Attorney General's Office.      This Digital Citizenship presentation will include: cyber bullying\, a digital footprint\, Internet predators\, Internet trolls\, and Pennsylvania law pertaining to Internet crimes.              Parents who plan to attend\, please RSVP to communications@charterarts.org.
LOCATION:
URL:https://www.charterarts.org/event/parent-meeting-title-internet-safety/
END:VEVENT
END:VCALENDAR