BEGIN:VCALENDAR
VERSION:2.0
PRODID:-//Lehigh Valley Charter High School for the Arts//NONSGML v1.0//EN
CALSCALE:GREGORIAN
METHOD:PUBLISH
X-WR-CALNAME:Lehigh Valley Charter High School for the Arts
X-ORIGINAL-URL:https://www.charterarts.org
X-WR-CALDESC:Events for Lehigh Valley Charter High School for the Arts
X-WR-TIMEZONE:America/New_York
BEGIN:VEVENT
DTSTART;VALUE=DATE-TIME:20130507T193000
DTEND;VALUE=DATE-TIME:20130507T210000
DTSTAMP:20260419T133458
CREATED:20120907T201231
LAST-MODIFIED:20120907T201231
UID:3525@https://www.charterarts.org
SUMMARY:Piano Recital
DESCRIPTION:An evening of classics from the piano repertoire featuring our piano majors on our new Steinway & Sons piano!  Come out and celebrate this special evening with the LVPA community.    
LOCATION:LVPA - Black Box Theatre, 675 East Broad Street, Bethlehem, PA, United States, 18018
URL:https://www.charterarts.org/event/piano-recital-4/
END:VEVENT
END:VCALENDAR