BEGIN:VCALENDAR
VERSION:2.0
PRODID:-//Lehigh Valley Charter High School for the Arts//NONSGML v1.0//EN
CALSCALE:GREGORIAN
METHOD:PUBLISH
X-WR-CALNAME:Lehigh Valley Charter High School for the Arts
X-ORIGINAL-URL:https://www.charterarts.org
X-WR-CALDESC:Events for Lehigh Valley Charter High School for the Arts
X-WR-TIMEZONE:America/New_York
BEGIN:VEVENT
DTSTART;VALUE=DATE-TIME:20160524T190000
DTEND;VALUE=DATE-TIME:20160524T203000
DTSTAMP:20260420T224343
CREATED:20160522T102333
LAST-MODIFIED:20160522T102600
UID:11910@https://www.charterarts.org
SUMMARY:Piano Recital
DESCRIPTION:Charter Arts Theatre    7pm    Click here for tickets.
LOCATION:
URL:https://www.charterarts.org/event/piano-recital-8/
END:VEVENT
END:VCALENDAR