BEGIN:VCALENDAR
VERSION:2.0
PRODID:-//Lehigh Valley Charter High School for the Arts//NONSGML v1.0//EN
CALSCALE:GREGORIAN
METHOD:PUBLISH
X-WR-CALNAME:Lehigh Valley Charter High School for the Arts
X-ORIGINAL-URL:https://www.charterarts.org
X-WR-CALDESC:Events for Lehigh Valley Charter High School for the Arts
X-WR-TIMEZONE:America/New_York
BEGIN:VEVENT
DTSTART;VALUE=DATE:20150325
DTEND;VALUE=DATE:20150329
DTSTAMP:20260420T224452
CREATED:20141222T171900
LAST-MODIFIED:20141222T171900
UID:9120@https://www.charterarts.org
SUMMARY:PMEA All-State Festival
DESCRIPTION:
LOCATION:
URL:https://www.charterarts.org/event/pmea-state-festival/
END:VEVENT
END:VCALENDAR