BEGIN:VCALENDAR
VERSION:2.0
PRODID:-//Lehigh Valley Charter High School for the Arts//NONSGML v1.0//EN
CALSCALE:GREGORIAN
METHOD:PUBLISH
X-WR-CALNAME:Lehigh Valley Charter High School for the Arts
X-ORIGINAL-URL:https://www.charterarts.org
X-WR-CALDESC:Events for Lehigh Valley Charter High School for the Arts
X-WR-TIMEZONE:America/New_York
BEGIN:VEVENT
DTSTART;VALUE=DATE-TIME:20171103T180000
DTEND;VALUE=DATE-TIME:20171103T190000
DTSTAMP:20260420T223714
CREATED:20171030T100016
LAST-MODIFIED:20171030T100034
UID:15018@https://www.charterarts.org
SUMMARY:The Poetics of Crossings - Public Lecture
DESCRIPTION:The Poetics of Crossings:    Please​ ​join​ ​us​ ​for​ ​a​ ​Public​ ​Lecture​ ​by David​ ​Rubin​ ​of​​ ​​Land​​ ​​Collective November​ ​3\,​ ​2017​ ​at​ ​6:00pm in​ ​the​ ​Commons​ ​Room​ ​of The​ ​Lehigh​ ​Valley​ ​Charter​ ​High​ ​School for​ ​the​ ​Arts\,​ ​321​ ​East​ ​3​rd​​ ​Street\, Southside​ ​Bethlehem  This​ ​lecture​ ​is​ ​part​ ​of​ ​a​ ​Special​ ​Architectural​ ​Design Studio​ ​run​ ​by​ ​Professor​ ​Anthony​ ​Viscardi​ ​at​ ​Lehigh University’s​ ​Department​ ​of​ ​Art\,​ ​Architecture​ ​and Design​ ​and​ ​funded​ ​by The​ ​Mellon​ ​Digital​ ​Humanities​ ​Initiative
LOCATION:
URL:https://www.charterarts.org/event/poetics-crossings-public-lecture/
END:VEVENT
END:VCALENDAR