BEGIN:VCALENDAR
VERSION:2.0
PRODID:-//Lehigh Valley Charter High School for the Arts//NONSGML v1.0//EN
CALSCALE:GREGORIAN
METHOD:PUBLISH
X-WR-CALNAME:Lehigh Valley Charter High School for the Arts
X-ORIGINAL-URL:https://www.charterarts.org
X-WR-CALDESC:Events for Lehigh Valley Charter High School for the Arts
X-WR-TIMEZONE:America/New_York
BEGIN:VEVENT
DTSTART;VALUE=DATE-TIME:20161202T190000
DTEND;VALUE=DATE-TIME:20161202T200000
DTSTAMP:20260424T111901
CREATED:20161018T175232
LAST-MODIFIED:20161018T175232
UID:12839@https://www.charterarts.org
SUMMARY:Poetry Reading
DESCRIPTION:Charter Arts Commons Cafe    &nbsp;
LOCATION:
URL:https://www.charterarts.org/event/poetry-reading/
END:VEVENT
END:VCALENDAR