BEGIN:VCALENDAR
VERSION:2.0
PRODID:-//Lehigh Valley Charter High School for the Arts//NONSGML v1.0//EN
CALSCALE:GREGORIAN
METHOD:PUBLISH
X-WR-CALNAME:Lehigh Valley Charter High School for the Arts
X-ORIGINAL-URL:https://www.charterarts.org
X-WR-CALDESC:Events for Lehigh Valley Charter High School for the Arts
X-WR-TIMEZONE:America/New_York
BEGIN:VEVENT
DTSTART;VALUE=DATE-TIME:20140721T093000
DTEND;VALUE=DATE-TIME:20140721T120000
DTSTAMP:20260422T102000
CREATED:20140625T170016
LAST-MODIFIED:20140709T141941
UID:7362@https://www.charterarts.org
SUMMARY:Pop & Jazz Vocal Workshop: Week #1
DESCRIPTION:Pop &amp; Jazz Performance Workshop (openings available)  So You Want to Perform like a Pop Star or Jazz Singer?  This program is designed to give vocal students a major edge in all aspects of performing in front of an audience.  Each student will develop their music skills through coaching and ensemble work.  Participants will create a one- hour show to perform at MusicFest in early August.Open to teens entering 8th-12th gradeTwo Week Session:  July 21-25 AND July 28-August 19:30am-12:00pm daily$325Instructor:  C. Brown
LOCATION:
URL:https://www.charterarts.org/event/pop-jazz-vocal-performance-workshop/
END:VEVENT
END:VCALENDAR