BEGIN:VCALENDAR
VERSION:2.0
PRODID:-//Lehigh Valley Charter High School for the Arts//NONSGML v1.0//EN
CALSCALE:GREGORIAN
METHOD:PUBLISH
X-WR-CALNAME:Lehigh Valley Charter High School for the Arts
X-ORIGINAL-URL:https://www.charterarts.org
X-WR-CALDESC:Events for Lehigh Valley Charter High School for the Arts
X-WR-TIMEZONE:America/New_York
BEGIN:VEVENT
DTSTART;VALUE=DATE-TIME:20180730T090000
DTEND;VALUE=DATE-TIME:20180803T120000
DTSTAMP:20260422T102852
CREATED:20180502T124511
LAST-MODIFIED:20180715T115651
UID:15840@https://www.charterarts.org
SUMMARY:Pop & Jazz Vocal Workshop
DESCRIPTION:July 30- August 3    There are still openings in this workshop.  Call 610-868-2971 Ext. 3185 to register.    9:30-12:30pm daily    READ MORE
LOCATION:
URL:https://www.charterarts.org/event/pop-jazz-vocal-workshop-6/
END:VEVENT
END:VCALENDAR