BEGIN:VCALENDAR
VERSION:2.0
PRODID:-//Lehigh Valley Charter High School for the Arts//NONSGML v1.0//EN
CALSCALE:GREGORIAN
METHOD:PUBLISH
X-WR-CALNAME:Lehigh Valley Charter High School for the Arts
X-ORIGINAL-URL:https://www.charterarts.org
X-WR-CALDESC:Events for Lehigh Valley Charter High School for the Arts
X-WR-TIMEZONE:America/New_York
BEGIN:VEVENT
DTSTART;VALUE=DATE-TIME:20160210T134500
DTEND;VALUE=DATE-TIME:20160210T144500
DTSTAMP:20260420T052403
CREATED:20160204T172033
LAST-MODIFIED:20160204T172033
UID:11362@https://www.charterarts.org
SUMMARY:Prom Committee Meeting
DESCRIPTION:Only upperclassmen may attend. Interested students email Mrs. Weller at aweller@charterarts.org.    Prom is Friday June 10th at Iacocca Hall at Lehigh University.    &nbsp;
LOCATION:
URL:https://www.charterarts.org/event/prom-committee-meeting-2/
END:VEVENT
END:VCALENDAR