BEGIN:VCALENDAR
VERSION:2.0
PRODID:-//Lehigh Valley Charter High School for the Arts//NONSGML v1.0//EN
CALSCALE:GREGORIAN
METHOD:PUBLISH
X-WR-CALNAME:Lehigh Valley Charter High School for the Arts
X-ORIGINAL-URL:https://www.charterarts.org
X-WR-CALDESC:Events for Lehigh Valley Charter High School for the Arts
X-WR-TIMEZONE:America/New_York
BEGIN:VEVENT
DTSTART;VALUE=DATE:20150226
DTEND;VALUE=DATE:20150301
DTSTAMP:20260422T124232
CREATED:20141218T113302
LAST-MODIFIED:20141218T113302
UID:8980@https://www.charterarts.org
SUMMARY:Regional Chorus
DESCRIPTION:Off-site.
LOCATION:
URL:https://www.charterarts.org/event/regional-chorus/
END:VEVENT
END:VCALENDAR