BEGIN:VCALENDAR
VERSION:2.0
PRODID:-//Lehigh Valley Charter High School for the Arts//NONSGML v1.0//EN
CALSCALE:GREGORIAN
METHOD:PUBLISH
X-WR-CALNAME:Lehigh Valley Charter High School for the Arts
X-ORIGINAL-URL:https://www.charterarts.org
X-WR-CALDESC:Events for Lehigh Valley Charter High School for the Arts
X-WR-TIMEZONE:America/New_York
BEGIN:VEVENT
DTSTART;VALUE=DATE:20150304
DTEND;VALUE=DATE:20150309
DTSTAMP:20260419T152732
CREATED:20141218T134430
LAST-MODIFIED:20141218T134443
UID:9015@https://www.charterarts.org
SUMMARY:Regional High School Dance Festival
DESCRIPTION:Off-site.
LOCATION:
URL:https://www.charterarts.org/event/regional-high-school-dance-festival-2/
END:VEVENT
END:VCALENDAR