BEGIN:VCALENDAR
VERSION:2.0
PRODID:-//Lehigh Valley Charter High School for the Arts//NONSGML v1.0//EN
CALSCALE:GREGORIAN
METHOD:PUBLISH
X-WR-CALNAME:Lehigh Valley Charter High School for the Arts
X-ORIGINAL-URL:https://www.charterarts.org
X-WR-CALDESC:Events for Lehigh Valley Charter High School for the Arts
X-WR-TIMEZONE:America/New_York
BEGIN:VEVENT
DTSTART;VALUE=DATE-TIME:20170209T180000
DTEND;VALUE=DATE-TIME:20170209T200000
DTSTAMP:20260420T130920
CREATED:20170131T100051
LAST-MODIFIED:20170213T125210
UID:13661@https://www.charterarts.org
SUMMARY:School Board Meeting Postponed
DESCRIPTION:Due to inclement weather\, this event has been rescheduled for February 23\, 2017.    Executive Session begins at 6pm.    Public Session begins immediately following the Executive Session.
LOCATION:
URL:https://www.charterarts.org/event/school-board-meeting-16/
END:VEVENT
END:VCALENDAR