BEGIN:VCALENDAR
VERSION:2.0
PRODID:-//Lehigh Valley Charter High School for the Arts//NONSGML v1.0//EN
CALSCALE:GREGORIAN
METHOD:PUBLISH
X-WR-CALNAME:Lehigh Valley Charter High School for the Arts
X-ORIGINAL-URL:https://www.charterarts.org
X-WR-CALDESC:Events for Lehigh Valley Charter High School for the Arts
X-WR-TIMEZONE:America/New_York
BEGIN:VEVENT
DTSTART;VALUE=DATE-TIME:20150212T180000
DTEND;VALUE=DATE-TIME:20150212T200000
DTSTAMP:20260422T133317
CREATED:20141218T113146
LAST-MODIFIED:20141218T113146
UID:8975@https://www.charterarts.org
SUMMARY:School Board Meeting
DESCRIPTION:
LOCATION:
URL:https://www.charterarts.org/event/school-board-meeting-3/
END:VEVENT
END:VCALENDAR