BEGIN:VCALENDAR
VERSION:2.0
PRODID:-//Lehigh Valley Charter High School for the Arts//NONSGML v1.0//EN
CALSCALE:GREGORIAN
METHOD:PUBLISH
X-WR-CALNAME:Lehigh Valley Charter High School for the Arts
X-ORIGINAL-URL:https://www.charterarts.org
X-WR-CALDESC:Events for Lehigh Valley Charter High School for the Arts
X-WR-TIMEZONE:America/New_York
BEGIN:VEVENT
DTSTART;VALUE=DATE:20150403
DTEND;VALUE=DATE:20150404
DTSTAMP:20260422T172824
CREATED:20150116T135919
LAST-MODIFIED:20150116T135926
UID:9191@https://www.charterarts.org
SUMMARY:SCHOOL CLOSED
DESCRIPTION:
LOCATION:
URL:https://www.charterarts.org/event/school-closed-3/
END:VEVENT
END:VCALENDAR