BEGIN:VCALENDAR
VERSION:2.0
PRODID:-//Lehigh Valley Charter High School for the Arts//NONSGML v1.0//EN
CALSCALE:GREGORIAN
METHOD:PUBLISH
X-WR-CALNAME:Lehigh Valley Charter High School for the Arts
X-ORIGINAL-URL:https://www.charterarts.org
X-WR-CALDESC:Events for Lehigh Valley Charter High School for the Arts
X-WR-TIMEZONE:America/New_York
BEGIN:VEVENT
DTSTART;VALUE=DATE:20171123
DTEND;VALUE=DATE:20171128
DTSTAMP:20260420T103233
CREATED:20170706T093940
LAST-MODIFIED:20171114T090433
UID:14333@https://www.charterarts.org
SUMMARY:SCHOOL CLOSED
DESCRIPTION:
LOCATION:
URL:https://www.charterarts.org/event/school-closed-6/
END:VEVENT
END:VCALENDAR