BEGIN:VCALENDAR
VERSION:2.0
PRODID:-//Lehigh Valley Charter High School for the Arts//NONSGML v1.0//EN
CALSCALE:GREGORIAN
METHOD:PUBLISH
X-WR-CALNAME:Lehigh Valley Charter High School for the Arts
X-ORIGINAL-URL:https://www.charterarts.org
X-WR-CALDESC:Events for Lehigh Valley Charter High School for the Arts
X-WR-TIMEZONE:America/New_York
BEGIN:VEVENT
DTSTART;VALUE=DATE:20150213
DTEND;VALUE=DATE:20150214
DTSTAMP:20260422T152344
CREATED:20141218T112450
LAST-MODIFIED:20141218T112450
UID:8945@https://www.charterarts.org
SUMMARY:SCHOOL CLOSED- AUDITIONS 
DESCRIPTION:
LOCATION:
URL:https://www.charterarts.org/event/school-closed-auditions/
END:VEVENT
END:VCALENDAR