BEGIN:VCALENDAR
VERSION:2.0
PRODID:-//Lehigh Valley Charter High School for the Arts//NONSGML v1.0//EN
CALSCALE:GREGORIAN
METHOD:PUBLISH
X-WR-CALNAME:Lehigh Valley Charter High School for the Arts
X-ORIGINAL-URL:https://www.charterarts.org
X-WR-CALDESC:Events for Lehigh Valley Charter High School for the Arts
X-WR-TIMEZONE:America/New_York
BEGIN:VEVENT
DTSTART;VALUE=DATE:20131223
DTEND;VALUE=DATE:20140102
DTSTAMP:20260420T192553
CREATED:20130517T112610
LAST-MODIFIED:20130517T112610
UID:4839@https://www.charterarts.org
SUMMARY:School Closed for Winter Vacation
DESCRIPTION:
LOCATION:
URL:https://www.charterarts.org/event/school-closed-for-winter-vacation/
END:VEVENT
END:VCALENDAR