BEGIN:VCALENDAR
VERSION:2.0
PRODID:-//Lehigh Valley Charter High School for the Arts//NONSGML v1.0//EN
CALSCALE:GREGORIAN
METHOD:PUBLISH
X-WR-CALNAME:Lehigh Valley Charter High School for the Arts
X-ORIGINAL-URL:https://www.charterarts.org
X-WR-CALDESC:Events for Lehigh Valley Charter High School for the Arts
X-WR-TIMEZONE:America/New_York
BEGIN:VEVENT
DTSTART;VALUE=DATE:20170529
DTEND;VALUE=DATE:20170530
DTSTAMP:20260420T102557
CREATED:20170104T085129
LAST-MODIFIED:20170524T114403
UID:13555@https://www.charterarts.org
SUMMARY:SCHOOL CLOSED- Memorial Day
DESCRIPTION:
LOCATION:
URL:https://www.charterarts.org/event/school-closed-memorial-day-2/
END:VEVENT
END:VCALENDAR