BEGIN:VCALENDAR
VERSION:2.0
PRODID:-//Lehigh Valley Charter High School for the Arts//NONSGML v1.0//EN
CALSCALE:GREGORIAN
METHOD:PUBLISH
X-WR-CALNAME:Lehigh Valley Charter High School for the Arts
X-ORIGINAL-URL:https://www.charterarts.org
X-WR-CALDESC:Events for Lehigh Valley Charter High School for the Arts
X-WR-TIMEZONE:America/New_York
BEGIN:VEVENT
DTSTART;VALUE=DATE:20181008
DTEND;VALUE=DATE:20181009
DTSTAMP:20260419T133449
CREATED:20180716T134334
LAST-MODIFIED:20180910T160721
UID:16084@https://www.charterarts.org
SUMMARY:SCHOOL CLOSED- Teacher In-Service
DESCRIPTION:
LOCATION:
URL:https://www.charterarts.org/event/school-closed-teacher-service-3/
END:VEVENT
END:VCALENDAR