BEGIN:VCALENDAR
VERSION:2.0
PRODID:-//Lehigh Valley Charter High School for the Arts//NONSGML v1.0//EN
CALSCALE:GREGORIAN
METHOD:PUBLISH
X-WR-CALNAME:Lehigh Valley Charter High School for the Arts
X-ORIGINAL-URL:https://www.charterarts.org
X-WR-CALDESC:Events for Lehigh Valley Charter High School for the Arts
X-WR-TIMEZONE:America/New_York
BEGIN:VEVENT
DTSTART;VALUE=DATE:20161104
DTEND;VALUE=DATE:20161105
DTSTAMP:20260420T121256
CREATED:20160616T144325
LAST-MODIFIED:20160616T144325
UID:12319@https://www.charterarts.org
SUMMARY:SCHOOL CLOSED- Teacher In-Service
DESCRIPTION:
LOCATION:
URL:https://www.charterarts.org/event/school-closed-teacher-service-4-2/
END:VEVENT
END:VCALENDAR