BEGIN:VCALENDAR
VERSION:2.0
PRODID:-//Lehigh Valley Charter High School for the Arts//NONSGML v1.0//EN
CALSCALE:GREGORIAN
METHOD:PUBLISH
X-WR-CALNAME:Lehigh Valley Charter High School for the Arts
X-ORIGINAL-URL:https://www.charterarts.org
X-WR-CALDESC:Events for Lehigh Valley Charter High School for the Arts
X-WR-TIMEZONE:America/New_York
BEGIN:VEVENT
DTSTART;VALUE=DATE:20170127
DTEND;VALUE=DATE:20170128
DTSTAMP:20260420T224036
CREATED:20161030T114144
LAST-MODIFIED:20161030T114144
UID:12977@https://www.charterarts.org
SUMMARY:SCHOOL CLOSED- Teacher In-Service
DESCRIPTION:
LOCATION:
URL:https://www.charterarts.org/event/school-closed-teacher-service-4-3/
END:VEVENT
END:VCALENDAR