BEGIN:VCALENDAR
VERSION:2.0
PRODID:-//Lehigh Valley Charter High School for the Arts//NONSGML v1.0//EN
CALSCALE:GREGORIAN
METHOD:PUBLISH
X-WR-CALNAME:Lehigh Valley Charter High School for the Arts
X-ORIGINAL-URL:https://www.charterarts.org
X-WR-CALDESC:Events for Lehigh Valley Charter High School for the Arts
X-WR-TIMEZONE:America/New_York
BEGIN:VEVENT
DTSTART;VALUE=DATE:20171009
DTEND;VALUE=DATE:20171010
DTSTAMP:20260424T100609
CREATED:20170706T093506
LAST-MODIFIED:20170928T154555
UID:14308@https://www.charterarts.org
SUMMARY:SCHOOL CLOSED- Teacher In-Service
DESCRIPTION:
LOCATION:
URL:https://www.charterarts.org/event/school-closed-teacher-service-4-5/
END:VEVENT
END:VCALENDAR