BEGIN:VCALENDAR
VERSION:2.0
PRODID:-//Lehigh Valley Charter High School for the Arts//NONSGML v1.0//EN
CALSCALE:GREGORIAN
METHOD:PUBLISH
X-WR-CALNAME:Lehigh Valley Charter High School for the Arts
X-ORIGINAL-URL:https://www.charterarts.org
X-WR-CALDESC:Events for Lehigh Valley Charter High School for the Arts
X-WR-TIMEZONE:America/New_York
BEGIN:VEVENT
DTSTART;VALUE=DATE:20151224
DTEND;VALUE=DATE:20151226
DTSTAMP:20260420T130434
CREATED:20150831T134453
LAST-MODIFIED:20151214T144235
UID:10454@https://www.charterarts.org
SUMMARY:SCHOOL CLOSED- WINTER BREAK
DESCRIPTION:
LOCATION:
URL:https://www.charterarts.org/event/school-closed-winter-break-2/
END:VEVENT
END:VCALENDAR