BEGIN:VCALENDAR
VERSION:2.0
PRODID:-//Lehigh Valley Charter High School for the Arts//NONSGML v1.0//EN
CALSCALE:GREGORIAN
METHOD:PUBLISH
X-WR-CALNAME:Lehigh Valley Charter High School for the Arts
X-ORIGINAL-URL:https://www.charterarts.org
X-WR-CALDESC:Events for Lehigh Valley Charter High School for the Arts
X-WR-TIMEZONE:America/New_York
BEGIN:VEVENT
DTSTART;VALUE=DATE:20170908
DTEND;VALUE=DATE:20170909
DTSTAMP:20260420T212530
CREATED:20170831T085152
LAST-MODIFIED:20170831T085152
UID:14777@https://www.charterarts.org
SUMMARY:School Picture Day- 11th & 12th grades
DESCRIPTION:
LOCATION:
URL:https://www.charterarts.org/event/school-picture-day-11th-12th-grades/
END:VEVENT
END:VCALENDAR