BEGIN:VCALENDAR
VERSION:2.0
PRODID:-//Lehigh Valley Charter High School for the Arts//NONSGML v1.0//EN
CALSCALE:GREGORIAN
METHOD:PUBLISH
X-WR-CALNAME:Lehigh Valley Charter High School for the Arts
X-ORIGINAL-URL:https://www.charterarts.org
X-WR-CALDESC:Events for Lehigh Valley Charter High School for the Arts
X-WR-TIMEZONE:America/New_York
BEGIN:VEVENT
DTSTART;VALUE=DATE:20120925
DTEND;VALUE=DATE:20120926
DTSTAMP:20260419T175525
CREATED:20120908T115404
LAST-MODIFIED:20120908T115404
UID:3782@https://www.charterarts.org
SUMMARY:School Picture Day
DESCRIPTION:
LOCATION:
URL:https://www.charterarts.org/event/school-picture-day-2/
END:VEVENT
END:VCALENDAR